BEGIN:VCALENDAR
VERSION:2.0
X-WR-TIMEZONE:America/Guadeloupe
CALSCALE:GREGORIAN
PRODID:-//IPEOS/Calendar//NONSGML v1.0//FR
X-WR-CALNAME;VALUE=TEXT:Ville de Saint-François - Agenda
X-WR-RELCALID:article/agenda
BEGIN:VEVENT
SUMMARY:Ateliers numériques Bibliovox
UID:evenement162 @ https://www.villesaintfrancois.fr
DTSTAMP:20260420T123700Z
DTSTART:20260422T130000Z
DTEND:20260422T140000Z
CREATED:20260420T123700Z
LAST-MODIFIED:20260420T163916Z 
LOCATION:MÉDIATHÈQUE MUNICIPALE
DESCRIPTION:La médiathèque municipale de Saint-François propose sa lecture numérique bibliovox à destination des enfants Mercredi 22 avril prochain. Infoline : 0590 20 29 31
CATEGORIES:Agenda
URL:https://www.villesaintfrancois.fr/article/agenda?id_evenement=162
SEQUENCE:1

STATUS:CONFIRMED
END:VEVENT
END:VCALENDAR

