BEGIN:VCALENDAR
VERSION:2.0
X-WR-TIMEZONE:America/Guadeloupe
CALSCALE:GREGORIAN
PRODID:-//IPEOS/Calendar//NONSGML v1.0//FR
X-WR-CALNAME;VALUE=TEXT:Ville de Saint-François - Agenda
X-WR-RELCALID:article/agenda
BEGIN:VEVENT
SUMMARY:Ti kozé pour les seniors
UID:evenement163 @ https://www.villesaintfrancois.fr
DTSTAMP:20260420T125306Z
DTSTART:20260506T140000Z
DTEND:20260506T150000Z
CREATED:20260420T125306Z
LAST-MODIFIED:20260420T165306Z 
LOCATION:MÉDIATHÈQUE MUNICIPALE
DESCRIPTION:Le rendez-vous des seniors ! Pour être entre seniors et partager un moment convivial de discussions\, lectures etc.\, rendez-vous à la médiathèque municipale.
CATEGORIES:Agenda
URL:https://www.villesaintfrancois.fr/article/agenda?id_evenement=163
SEQUENCE:0

STATUS:CONFIRMED
END:VEVENT
END:VCALENDAR

