BEGIN:VCALENDAR
VERSION:2.0
X-WR-TIMEZONE:America/Guadeloupe
CALSCALE:GREGORIAN
PRODID:-//IPEOS/Calendar//NONSGML v1.0//FR
X-WR-CALNAME;VALUE=TEXT:Ville de Saint-François - Agenda
X-WR-RELCALID:article/agenda
BEGIN:VEVENT
SUMMARY:Cinéma : projection gratuite pour les enfants
UID:evenement164 @ https://www.villesaintfrancois.fr
DTSTAMP:20260421T135310Z
DTSTART:20260506T190000Z
DTEND:20260506T210000Z
CREATED:20260421T135310Z
LAST-MODIFIED:20260421T175310Z 
LOCATION:Rotonde des Arts
DESCRIPTION:Ciné Woulé et la Riviera du Levant en collaboration avec la ville de Saint-François\, proposent une séance de cinéma à la Rotonde des Arts ! A l'affiche : MONSIEUR LINK Monsieur Link est une créature surprenante\, étonnamment intelligente et surtout incroyablement attachante. Dernier vestige de l’évolution humaine et unique représentant de son espèce\, Monsieur Link se sent seul... Pour l’aider à retrouver ses parents éloignés\, il approche l’explorateur Sir Lionel Frost\, le plus grand spécialiste des mystères et des mythes. La séance est gratuite ! Rendez-vous Mercredi 6 Mai 2026 À 15h00 Infoline : Direction Culture Sport et Loisirs 0590 48 07 78
CATEGORIES:Agenda
URL:https://www.villesaintfrancois.fr/article/agenda?id_evenement=164
SEQUENCE:1

STATUS:CONFIRMED
END:VEVENT
END:VCALENDAR

