BEGIN:VCALENDAR
VERSION:2.0
X-WR-TIMEZONE:America/Guadeloupe
CALSCALE:GREGORIAN
PRODID:-//IPEOS/Calendar//NONSGML v1.0//FR
X-WR-CALNAME;VALUE=TEXT:Ville de Saint-François - Agenda
X-WR-RELCALID:article/agenda
BEGIN:VEVENT
SUMMARY:RELAIS INTER-ENTREPRISES
UID:evenement165 @ https://www.villesaintfrancois.fr
DTSTAMP:20260424T163318Z
DTSTART:20260527T130000Z
DTEND:20260527T180000Z
CREATED:20260424T163318Z
LAST-MODIFIED:20260424T203318Z 
LOCATION:Raisins Clairs 
DESCRIPTION:SAINT-FRANCOIS SERA LA VILLE D'ARRIVÉE DU RELAIS INTER-ENTREPRISES 2026 LE MERCREDI 27 MAI À RAISINS CLAIRS !
CATEGORIES:Agenda
URL:https://www.villesaintfrancois.fr/article/agenda?id_evenement=165
SEQUENCE:0

STATUS:CONFIRMED
END:VEVENT
END:VCALENDAR

