BEGIN:VCALENDAR
VERSION:2.0
X-WR-TIMEZONE:America/Guadeloupe
CALSCALE:GREGORIAN
PRODID:-//IPEOS/Calendar//NONSGML v1.0//FR
X-WR-CALNAME;VALUE=TEXT:Ville de Saint-François - Agenda
X-WR-RELCALID:article/agenda
BEGIN:VEVENT
SUMMARY:Réunion publique sargasses
UID:evenement166 @ https://www.villesaintfrancois.fr
DTSTAMP:20260424T163917Z
DTSTART:20260507T210000Z
DTEND:20260507T230000Z
CREATED:20260424T163917Z
LAST-MODIFIED:20260424T204029Z 
LOCATION:Salle Rotonde des Arts
DESCRIPTION:Dans le cadre de la concertation menée pour l’élaboration du plan national sargasses 3\, le préfet de la région Guadeloupe organise deux réunions publiques pour présenter la politique de gestion des sargasses sur le territoire\, les actions en cours par thématique et les grandes orientations. Entrée libre
CATEGORIES:Agenda
URL:https://www.villesaintfrancois.fr/article/agenda?id_evenement=166
SEQUENCE:1

STATUS:CONFIRMED
END:VEVENT
END:VCALENDAR

